BEGIN:VCALENDAR
VERSION:2.0
PRODID:-//Plone.org//NONSGML plone.app.event//EN
X-WR-TIMEZONE:US/Eastern
BEGIN:VEVENT
SUMMARY:"Bird in the Hand" presented by Terry Grabill
DTSTART;TZID=US/Eastern:20240418T183000
DTEND;TZID=US/Eastern:20240418T200000
DTSTAMP:20260419T232651Z
UID:d721eb6c2d504b2997ae0ad95b28e67f@saas_stack_varnish:6080
CONTACT:269-857-8241\, info@sdlibrary.org
CREATED:20240329T152447Z
LAST-MODIFIED:20240403T222510Z
LOCATION:Saugatuck-Douglas District Library
URL:https://www.sdlibrary.org/programs-events/library-calendar/birding-tal
 k-with-terry-grabill
END:VEVENT
BEGIN:VTIMEZONE
TZID:US/Eastern
X-LIC-LOCATION:US/Eastern
BEGIN:DAYLIGHT
DTSTART:20240310T030000
TZNAME:EDT
TZOFFSETFROM:-0500
TZOFFSETTO:-0400
END:DAYLIGHT
END:VTIMEZONE
END:VCALENDAR
