BEGIN:VCALENDAR
VERSION:2.0
PRODID:-//Plone.org//NONSGML plone.app.event//EN
X-WR-TIMEZONE:US/Eastern
BEGIN:VEVENT
SUMMARY:Holiday Hours
DTSTART;VALUE=DATE:20201231
DTEND;VALUE=DATE:20210101
DTSTAMP:20260419T194312Z
UID:fd7a844f41ac488b8d065dcbad0fe9c8@saas_stack_varnish:6080
CONTACT:269-857-8241\, info@sdlibrary.org
CREATED:20191211T181325Z
DESCRIPTION:The Library will be open from 10am-2pm on Thursday\, December 
 31.
LAST-MODIFIED:20191211T181330Z
LOCATION:Saugatuck-Douglas District Library
URL:https://www.sdlibrary.org/programs-events/library-calendar/holiday-hou
 rs-12
END:VEVENT
END:VCALENDAR
