BEGIN:VCALENDAR
VERSION:2.0
PRODID:-//Plone.org//NONSGML plone.app.event//EN
X-WR-TIMEZONE:US/Eastern
BEGIN:VEVENT
SUMMARY:Knitting Circle
DTSTART;TZID=US/Eastern:20220413T130000
DTEND;TZID=US/Eastern:20220413T143000
DTSTAMP:20260422T224703Z
UID:5f92f8d89a0f4de6a87dae4ed53e1b3b@saas_stack_varnish:6080
CONTACT:269-857-8241\, info@sdlibrary.org
CREATED:20211106T145150Z
LAST-MODIFIED:20220523T170121Z
LOCATION:Program Room: Saugatuck-Douglas District Library
URL:https://www.sdlibrary.org/programs-events/library-calendar/knitting-ci
 rcle/2022-04-13
END:VEVENT
BEGIN:VTIMEZONE
TZID:US/Eastern
X-LIC-LOCATION:US/Eastern
BEGIN:DAYLIGHT
DTSTART:20220313T030000
TZNAME:EDT
TZOFFSETFROM:-0500
TZOFFSETTO:-0400
END:DAYLIGHT
END:VTIMEZONE
END:VCALENDAR
