BEGIN:VCALENDAR
VERSION:2.0
PRODID:-//Plone.org//NONSGML plone.app.event//EN
X-WR-TIMEZONE:US/Eastern
BEGIN:VEVENT
SUMMARY:Knitting Circle
DTSTART;TZID=US/Eastern:20220119T130000
DTEND;TZID=US/Eastern:20220119T143000
DTSTAMP:20260423T002007Z
UID:5f92f8d89a0f4de6a87dae4ed53e1b3b@saas_stack_varnish:6080
RRULE:FREQ=WEEKLY;COUNT=20;BYDAY=WE
EXDATE;TZID=US/Eastern:20220601T000000
CONTACT:269-857-8241\, info@sdlibrary.org
CREATED:20211106T145150Z
LAST-MODIFIED:20220523T170121Z
LOCATION:Program Room: Saugatuck-Douglas District Library
URL:https://www.sdlibrary.org/programs-events/library-calendar/knitting-ci
 rcle
END:VEVENT
BEGIN:VTIMEZONE
TZID:US/Eastern
X-LIC-LOCATION:US/Eastern
BEGIN:STANDARD
DTSTART:20211107T010000
TZNAME:EST
TZOFFSETFROM:-0400
TZOFFSETTO:-0500
END:STANDARD
END:VTIMEZONE
END:VCALENDAR
