BEGIN:VCALENDAR
VERSION:2.0
PRODID:-//Plone.org//NONSGML plone.app.event//EN
X-WR-TIMEZONE:US/Eastern
BEGIN:VEVENT
SUMMARY:Pop-Up Gaming Hour (After School)
DTSTART;TZID=US/Eastern:20250918T151500
DTEND;TZID=US/Eastern:20250918T163000
DTSTAMP:20260419T132749Z
UID:cf4d5530e1de4fb0a191acc2235e0fd8@saas_stack_varnish:6080
RRULE:FREQ=WEEKLY;UNTIL=20251113T000000;BYDAY=TH
EXDATE;TZID=US/Eastern:20250925T000000,20251009T000000,20251023T000000,202
 51106T000000
CONTACT:269-857-8241\, info@sdlibrary.org
CREATED:20250827T171131Z
LAST-MODIFIED:20250827T171138Z
LOCATION:Saugatuck-Douglas District Library
URL:https://www.sdlibrary.org/programs-events/library-calendar/pop-up-gami
 ng-hour-after-school
END:VEVENT
BEGIN:VTIMEZONE
TZID:US/Eastern
X-LIC-LOCATION:US/Eastern
BEGIN:DAYLIGHT
DTSTART:20250309T030000
TZNAME:EDT
TZOFFSETFROM:-0500
TZOFFSETTO:-0400
END:DAYLIGHT
END:VTIMEZONE
END:VCALENDAR
